BEGIN:VCALENDAR
VERSION:2.0
PRODID:-//Caribbean Climate-Smart Accelerator - ECPv6.15.20//NONSGML v1.0//EN
CALSCALE:GREGORIAN
METHOD:PUBLISH
X-WR-CALNAME:Caribbean Climate-Smart Accelerator
X-ORIGINAL-URL:https://www.caribbeanaccelerator.org
X-WR-CALDESC:Events for Caribbean Climate-Smart Accelerator
REFRESH-INTERVAL;VALUE=DURATION:PT1H
X-Robots-Tag:noindex
X-PUBLISHED-TTL:PT1H
BEGIN:VTIMEZONE
TZID:America/Port_of_Spain
BEGIN:STANDARD
TZOFFSETFROM:-0400
TZOFFSETTO:-0400
TZNAME:AST
DTSTART:20240101T000000
END:STANDARD
END:VTIMEZONE
BEGIN:VEVENT
DTSTART;VALUE=DATE:20250507
DTEND;VALUE=DATE:20250510
DTSTAMP:20260425T220134
CREATED:20250203T162029Z
LAST-MODIFIED:20250221T225350Z
UID:10858-1746576000-1746835199@www.caribbeanaccelerator.org
SUMMARY:Caribbean Renewable Energy Forum (CREF)
DESCRIPTION:CREF (Caribbean Renewable Energy Forum)\n📅 May 7–9\, 2025 | Florida\, USA \nThe Caribbean Renewable Energy Forum (CREF) is the premier annual gathering of regional and international stakeholders dedicated to accelerating the Caribbean’s clean energy transition. As the largest event of its kind\, CREF convenes government leaders\, utilities\, investors\, developers\, and innovators to discuss solutions for building a resilient\, low-carbon energy future. \nThe Caribbean faces unique energy challenges\, including high dependency on fossil fuels\, climate vulnerability\, and financing barriers. CREF serves as a platform to:\n✅ Advance renewable energy policies to enable market transformation.\n✅ Foster investment in solar\, wind\, geothermal\, and energy storage solutions.\n✅ Strengthen public-private partnerships to accelerate clean energy adoption.\n✅ Showcase innovative technologies and financing models to scale up renewable projects. \nThe Caribbean Climate-Smart Accelerator (CCSA) will actively engage in discussions on:\n🔹 Climate finance and investment strategies for clean energy projects.\n🔹 Policy frameworks that support the region’s energy transition.\n🔹 Private sector-led innovations driving sustainable energy solutions. \nCREF is a must-attend event for those committed to transforming the Caribbean’s energy landscape and ensuring a sustainable future. \n 
URL:https://www.caribbeanaccelerator.org/event/cref-caribbean-renewable-energy-forum/
LOCATION:JW MARRIOTT MARQUIS\, 255 Biscayne Boulevard Way\, Miami\, FL\, United States
CATEGORIES:Forum,Symposium
ATTACH;FMTTYPE=image/jpeg:https://www.caribbeanaccelerator.org/wp-content/uploads/2025/02/CREF-2025-Event-Homepage.jpg
END:VEVENT
BEGIN:VEVENT
DTSTART;VALUE=DATE:20250507
DTEND;VALUE=DATE:20250508
DTSTAMP:20260425T220134
CREATED:20250221T225404Z
LAST-MODIFIED:20250221T225531Z
UID:10888-1746576000-1746662399@www.caribbeanaccelerator.org
SUMMARY:Women in Renewable Energy Luncheon
DESCRIPTION:Women in Renewable Energy Luncheon\n📅 May 7\, 2025 | 12:00 – 1:30 pm\n📍 Caribbean Renewable Energy Forum\, Florida\, USA \nThe Women in Renewable Energy Luncheon is a special event at CREF 2025\, co-hosted by the Caribbean Climate-Smart Accelerator (CCSA) and the Rocky Mountain Institute (RMI). This complimentary luncheon provides a platform for women leaders in the renewable energy sector to network\, share insights\, and discuss strategies for overcoming gender bias and inequities in the Caribbean’s energy landscape. \nThis luncheon will be an essential opportunity for women in renewable energy to come together\, strengthen their networks\, and shape the future of the Caribbean’s clean energy sector. \n💡 How to Register:\nWhen registering for CREF 2025\, be sure to request an invitation to this impactful and complimentary luncheon!
URL:https://www.caribbeanaccelerator.org/event/wire/
LOCATION:JW MARRIOTT MARQUIS\, 255 Biscayne Boulevard Way\, Miami\, FL\, United States
CATEGORIES:Forum,Symposium
ATTACH;FMTTYPE=image/jpeg:https://www.caribbeanaccelerator.org/wp-content/uploads/2025/02/CREF-2025-Women-Luncheon-LinkedIn-e1738599609222.jpg
END:VEVENT
END:VCALENDAR