BEGIN:VCALENDAR
VERSION:2.0
PRODID:-//Caribbean Climate-Smart Accelerator - ECPv6.15.20//NONSGML v1.0//EN
CALSCALE:GREGORIAN
METHOD:PUBLISH
X-WR-CALNAME:Caribbean Climate-Smart Accelerator
X-ORIGINAL-URL:https://www.caribbeanaccelerator.org
X-WR-CALDESC:Events for Caribbean Climate-Smart Accelerator
REFRESH-INTERVAL;VALUE=DURATION:PT1H
X-Robots-Tag:noindex
X-PUBLISHED-TTL:PT1H
BEGIN:VTIMEZONE
TZID:America/Port_of_Spain
BEGIN:STANDARD
TZOFFSETFROM:-0400
TZOFFSETTO:-0400
TZNAME:AST
DTSTART:20220101T000000
END:STANDARD
END:VTIMEZONE
BEGIN:VEVENT
DTSTART;VALUE=DATE:20231129
DTEND;VALUE=DATE:20231202
DTSTAMP:20260421T101624
CREATED:20231121T191227Z
LAST-MODIFIED:20231121T191227Z
UID:10096-1701216000-1701475199@www.caribbeanaccelerator.org
SUMMARY:Student Energy Summit 2023
DESCRIPTION:REIMAGINING THE FUTURE\nNOVEMBER 29 – DECEMBER 1\, 2023 | NYU Abu Dhabi\n#StudentEnergy – #SES2023 \n  \nJoin us for a transformative experience at the upcoming event where Racquel Moses\, CEO of the Caribbean Climate-Smart Accelerator (CCSA)\, will share invaluable insights on climate resilience in the Caribbean. Don’t miss the chance to hear firsthand about innovative initiatives and connect with global leaders in climate action. Stay tuned for exclusive coverage that promises to inspire and empower you to make a positive impact on climate change. Be part of the conversation for a sustainable future – reserve your spot now and stay informed!
URL:https://www.caribbeanaccelerator.org/event/student-energy-summit-2023/
LOCATION:NYU Abu Dhabi\, United Arab Emirates
CATEGORIES:Summit
ATTACH;FMTTYPE=image/png:https://www.caribbeanaccelerator.org/wp-content/uploads/2023/11/ses_2023-e1700593909757.png
END:VEVENT
END:VCALENDAR