BEGIN:VCALENDAR
VERSION:2.0
PRODID:-//Caribbean Climate-Smart Accelerator - ECPv6.15.20//NONSGML v1.0//EN
CALSCALE:GREGORIAN
METHOD:PUBLISH
X-WR-CALNAME:Caribbean Climate-Smart Accelerator
X-ORIGINAL-URL:https://www.caribbeanaccelerator.org
X-WR-CALDESC:Events for Caribbean Climate-Smart Accelerator
REFRESH-INTERVAL;VALUE=DURATION:PT1H
X-Robots-Tag:noindex
X-PUBLISHED-TTL:PT1H
BEGIN:VTIMEZONE
TZID:America/Port_of_Spain
BEGIN:STANDARD
TZOFFSETFROM:-0400
TZOFFSETTO:-0400
TZNAME:AST
DTSTART:20210101T000000
END:STANDARD
END:VTIMEZONE
BEGIN:VTIMEZONE
TZID:Europe/London
BEGIN:DAYLIGHT
TZOFFSETFROM:+0000
TZOFFSETTO:+0100
TZNAME:BST
DTSTART:20210328T010000
END:DAYLIGHT
BEGIN:STANDARD
TZOFFSETFROM:+0100
TZOFFSETTO:+0000
TZNAME:GMT
DTSTART:20211031T010000
END:STANDARD
BEGIN:DAYLIGHT
TZOFFSETFROM:+0000
TZOFFSETTO:+0100
TZNAME:BST
DTSTART:20220327T010000
END:DAYLIGHT
BEGIN:STANDARD
TZOFFSETFROM:+0100
TZOFFSETTO:+0000
TZNAME:GMT
DTSTART:20221030T010000
END:STANDARD
BEGIN:DAYLIGHT
TZOFFSETFROM:+0000
TZOFFSETTO:+0100
TZNAME:BST
DTSTART:20230326T010000
END:DAYLIGHT
BEGIN:STANDARD
TZOFFSETFROM:+0100
TZOFFSETTO:+0000
TZNAME:GMT
DTSTART:20231029T010000
END:STANDARD
END:VTIMEZONE
BEGIN:VEVENT
DTSTART;TZID=America/Port_of_Spain:20221122T110000
DTEND;TZID=America/Port_of_Spain:20221122T130000
DTSTAMP:20260424T115720
CREATED:20221122T152755Z
LAST-MODIFIED:20221122T152833Z
UID:8522-1669114800-1669122000@www.caribbeanaccelerator.org
SUMMARY:Ocean Decarbonization in the Caribbean
DESCRIPTION:Please join the Maritimes Energy Association and Net Zero Atlantic for a webinar on ocean decarbonization in the Caribbean.  Hear from keynote speaker\, Racquel Moses\, UNFCCC global ambassador and chief executive officer\, Caribbean Climate-Smart Accelerator as well as regional stakeholders on the importance of ocean decarbonization. \nThe ocean is central to reducing global greenhouse gas emissions and stabilizing the Earth’s climate. This session aims to put together regional stakeholders and Atlantic Canadian companies involved in the Decarbonization of the Oceans and the Blue Economy to look beyond current solutions and brainstorm about high-impact interventions to decarbonize the Caribbean Ocean ecosystem. Our experts will discuss global trends in the sector\, the pressing needs in the Caribbean decarbonization space\, potential international financial institutions’ support in the space\, examples of work by Ports in the region to green the industry\, and how to enhance public and private collaboration to create meaningful impact. Atlantic Canada is at the forefront of research and development in the decarbonization of the ocean and electrification of the marine industry\, and this webinar should be a way to start linkages between key players in our region and the Caribbean\, allowing for future connections and collaborations in the Blue Economy. \nREGISTER HERE
URL:https://www.caribbeanaccelerator.org/event/ocean-decarbonization-in-the-caribbean/
CATEGORIES:Webinar
ATTACH;FMTTYPE=image/png:https://www.caribbeanaccelerator.org/wp-content/uploads/2022/11/Screenshot-2022-11-22-102434-e1669130903405.png
END:VEVENT
BEGIN:VEVENT
DTSTART;TZID=America/Port_of_Spain:20221027T100000
DTEND;TZID=America/Port_of_Spain:20221027T130000
DTSTAMP:20260424T115720
CREATED:20221005T145434Z
LAST-MODIFIED:20221026T184608Z
UID:8073-1666864800-1666875600@www.caribbeanaccelerator.org
SUMMARY:ESG and Net Zero: Securing a sustainable future for the Caribbean
DESCRIPTION:We are all impacted by climate change and some parts of the world\, like the Caribbean\, are being more acutely impacted sooner than others. Our event aims to bring together regional leaders from government and business to convene a discussion on environmental\, social and governance (ESG) and net zero trends and the likely implications for the Caribbean\, and to make the case for action\, now\, to help secure a sustainable future.
URL:https://www.caribbeanaccelerator.org/event/esg-and-net-zero-securing-a-sustainable-future-for-the-caribbean/
CATEGORIES:Webinar
ATTACH;FMTTYPE=image/jpeg:https://www.caribbeanaccelerator.org/wp-content/uploads/2022/10/ESG-event.jpg
END:VEVENT
BEGIN:VEVENT
DTSTART;VALUE=DATE:20220915
DTEND;VALUE=DATE:20220916
DTSTAMP:20260424T115720
CREATED:20220825T173213Z
LAST-MODIFIED:20220825T173612Z
UID:7824-1663200000-1663286399@www.caribbeanaccelerator.org
SUMMARY:Webinar: How can IPAs create an environment that supports and develops female leadership?
DESCRIPTION:📢 Towards gender equality in FDI \n💻 FDI Center will be hosting a webinar on the 15th September at 15:00 CET on the topic of: How can investment promotion agencies create an environment in which female leaders can develop and be successful within the IPA? \n⚖️ This is the first webinar as part of our wider initiative Towards Gender Equality in FDI\, in which we aim to bring disparities in gender equality in the FDI and investment promotion industry to the forefront of discussion.
URL:https://www.caribbeanaccelerator.org/event/webinar-how-can-ipas-create-an-environment-that-supports-and-develops-female-leadership/
CATEGORIES:Webinar
ATTACH;FMTTYPE=image/png:https://www.caribbeanaccelerator.org/wp-content/uploads/2022/08/Screenshot-2022-08-25-123510.png
END:VEVENT
BEGIN:VEVENT
DTSTART;TZID=America/Port_of_Spain:20220615T090000
DTEND;TZID=America/Port_of_Spain:20220615T110000
DTSTAMP:20260424T115720
CREATED:20220530T172458Z
LAST-MODIFIED:20220530T172936Z
UID:7206-1655283600-1655290800@www.caribbeanaccelerator.org
SUMMARY:Blue-Green Economy Island Resilience Scorecard Demonstration
DESCRIPTION:IRAC 2020/21 Task Force and Scorecard\nThe 2020/21 IRAC Task Force was charged with the development of the Resilience Scorecard. \nThe Task Force interdisciplinary Task Force of stakeholders from all sectors of the Caribbean volunteered their time and resources to build and design the Scorecard for the last year and half. \nThis diverse cross-section of experts comprise of representatives from The Caribbean Climate-Smart Accelerator (CCSA)\, FortisTCI\, Gearing Up Limited\, Utility Regulation and Competition Office (OfReg)\, Coastal\, The Government of Bermuda\, Rocky Mountain Institute\, The Barbados National Oil Company\, Caribbean Development Bank\, Dominica Electricity Services Ltd\, WRB Energy\, The University of the West Indies (Cave Hill Campus)\, The Environmental Defense Fund\, Caribbean Centre for Renewable Energy and Energy Efficiency\, The Barbados Fair Trading Commission\, Advanced Energy Group\, Allovance and student volunteers. \nThe Scorecard is unique in that it is not based on traditional measures of GDP used by the international financial community\, but rather measures countries against their individual priorities\, and the standards and goals they have set for themselves\, many aligned targets of the United Nations Development SDGs. \nTherefore Scorecard will provide a pathway for allow countries to: \n\nEffectively allocate scarce resources\,\nLink strategy to budgeting\,\nPrioritize resilience projects and resources\,\nCreate strategic and capital plans\,\nMeasure the impact of philanthropy and investment projects.\n\nSpeakers: \n\nH.G. Chissell\, Founder/CEO\, Advanced Energy Group\nRick Warner\, Founder\, Coastal8\nFrancine Baron\, CEO\, Climate Resilience Execution Agency for Dominica\nArcadio (Kayo) Ramirez\, Scorecard Expert\nSherif Farghal\, CEO\, Allovance\n\nIRAC Background: \nThe Island Resiliency Action Challenge (IRAC)\, which is funded annually by the Caribbean Development Bank (CDB)\, Canada and sponsored by New Energy Events and Advanced Energy Group was launched in 2018. The Caribbean Climate-Smart Accelerator (CCSA) is a key strategic partner for IRAC. \nIRAC has become a critical and dynamic avenue for problem-solving and collaboration focused on building the resilience of the region by bringing together island policymakers\, utilities\, regulators\, financiers\, developers\, and manufacturers as a strategic think-tank. The goals of IRAC are to build consensus around hurdles in the Caribbean and identify regional resiliency challenges and actionable solutions indigenous to the region that can be accomplished within 12 month sprints.
URL:https://www.caribbeanaccelerator.org/event/blue-green-economy-island-resilience-scorecard-demonstration/
CATEGORIES:Webinar
ATTACH;FMTTYPE=image/png:https://www.caribbeanaccelerator.org/wp-content/uploads/2022/05/a23b3ae75880831ecc3586c4214baee3-e1653931743576.png
END:VEVENT
BEGIN:VEVENT
DTSTART;TZID=Europe/London:20220421T173000
DTEND;TZID=Europe/London:20220421T190000
DTSTAMP:20260424T115720
CREATED:20220413T164320Z
LAST-MODIFIED:20220420T195146Z
UID:6974-1650562200-1650567600@www.caribbeanaccelerator.org
SUMMARY:Climate Finance and the Commonwealth: Challenges & Options
DESCRIPTION:The Ramphal Institute is getting ready to launch its Work Program on Climate Finance and the Commonwealth and their inaugural webinar scheduled for Thursday 21 April at 1730 London (BST). This event will feature panelists from Climate Policy Initiative (CPI) and the Commonwealth Secretariat and Racquel Moses\, UNFCCC Global Ambassador; Chief Executive Officer\, Caribbean Climate-Smart Accelerator. \n\n\n\nThis event examines the challenges Commonwealth countries face with accessing climate finance to address their adaption and resilience needs\n\n\n\n\n\nAbout this event\n\n\nThe importance of climate finance for climate adaptation and resilience\, continues to grow. Yet\, despite the billions promised by developed countries and investors\, developing countries\, including Commonwealth developing countries and small island states\, face persisting challenges with accessing climate finance to address their climate needs. This webinar examines the challenges Commonwealth countries face with accessing climate finance and looks at the options available to them for overcoming this.
URL:https://www.caribbeanaccelerator.org/event/challenges-countries-face-with-climate-finance/
CATEGORIES:Webinar
ATTACH;FMTTYPE=image/png:https://www.caribbeanaccelerator.org/wp-content/uploads/2022/04/Ramphal.png
END:VEVENT
BEGIN:VEVENT
DTSTART;VALUE=DATE:20220412
DTEND;VALUE=DATE:20220415
DTSTAMP:20260424T115720
CREATED:20220413T232404Z
LAST-MODIFIED:20220413T232404Z
UID:6985-1649721600-1649980799@www.caribbeanaccelerator.org
SUMMARY:Virtual Trade Mission Canada
DESCRIPTION:Canada-Caribbean Trade Mission form April 12-14. The theme is “Growing a Green Recovery: Advancing Canadian Innovation and Sustainable Solutions in the Caribbean” and will focus on green infrastructure and clean technology opportunities in four influential regional countries: Barbados\, Guyana\, Jamaica and Trinidad and Tobago.
URL:https://www.caribbeanaccelerator.org/event/virtual-trade-mission-canada/
CATEGORIES:Webinar
ATTACH;FMTTYPE=image/png:https://www.caribbeanaccelerator.org/wp-content/uploads/2022/04/download-1-e1649892231203.png
END:VEVENT
END:VCALENDAR